BEGIN:VCALENDAR
VERSION:2.0
PRODID:-//Initiva AB//Dynamix 6//EN
BEGIN:VEVENT
UID:22084600
DTSTAMP:20260425T221827Z
ORGANIZER;CN=PMI Sweden Chapter:MAILTO:info@pmi-se.org
DTSTART:20260601T150000Z
DTEND:20260601T163000Z
SUMMARY:Många organisationer investerar i AI. Hur får du verklig och snabb effekt?
DESCRIPTION:https://www.pmi-se.org/Kalendarium/Manga-organisationer-investerar-i-AI--Hur-far-du-verklig-och-snabb-effekt__Jonkoping_2026-06-01
LOCATION:Region Jönköpings län, IT-Centrum Datorgatan 1, 561 33 Huskvarna/Jönköping
END:VEVENT
END:VCALENDAR
