BEGIN:VCALENDAR
VERSION:2.0
PRODID:-//Initiva AB//Dynamix 6//EN
BEGIN:VEVENT
UID:21969399
DTSTAMP:20260421T185340Z
ORGANIZER;CN=PMI Sweden Chapter:MAILTO:info@pmi-se.org
DTSTART:20260519T153000Z
DTEND:20260519T173000Z
SUMMARY:Projektmognad i praktiken - Göteborg Energis resa mot effektivare projektleveranser
DESCRIPTION:https://www.pmi-se.org/Kalendarium/Projektmognad-i-praktiken---Goteborg-Energis-resa-mot-effektivare-projektleveranser_Goteborg_2026-05-19
LOCATION:Göteborg Energi huvudkontor i Gårda (Rantorget 4, 416 64 Göteborg)/Göteborg
END:VEVENT
END:VCALENDAR
