BEGIN:VCALENDAR
VERSION:2.0
PRODID:-//Initiva AB//Dynamix 6//EN
BEGIN:VEVENT
UID:21961261
DTSTAMP:20260419T194702Z
ORGANIZER;CN=PMI Sweden Chapter:MAILTO:info@pmi-se.org
DTSTART:20260526T180000Z
DTEND:20260526T193000Z
SUMMARY:PMO nätverk: Att behålla relevans i en hybrid leveransmiljö.
DESCRIPTION:https://www.pmi-se.org/Kalendarium/PMO-natverk_-Att-behalla-relevans-i-en-hybrid-leveransmiljo-_2026-05-26
LOCATION:Online
END:VEVENT
END:VCALENDAR
